BEGIN:VCALENDAR
VERSION:2.0
PRODID:-//Mamães na Suíça - ECPv5.12.0//NONSGML v1.0//EN
CALSCALE:GREGORIAN
METHOD:PUBLISH
X-WR-CALNAME:Mamães na Suíça
X-ORIGINAL-URL:https://www.mamaesnasuica.com
X-WR-CALDESC:Eventos para Mamães na Suíça
BEGIN:VTIMEZONE
TZID:Europe/Zurich
BEGIN:DAYLIGHT
TZOFFSETFROM:+0100
TZOFFSETTO:+0200
TZNAME:CEST
DTSTART:20180325T010000
END:DAYLIGHT
BEGIN:STANDARD
TZOFFSETFROM:+0200
TZOFFSETTO:+0100
TZNAME:CET
DTSTART:20181028T010000
END:STANDARD
END:VTIMEZONE
BEGIN:VEVENT
DTSTART;TZID=Europe/Zurich:20180603T100000
DTEND;TZID=Europe/Zurich:20180603T170000
DTSTAMP:20260424T061318
CREATED:20180404T073329Z
LAST-MODIFIED:20180518T201923Z
UID:9256-1528020000-1528045200@www.mamaesnasuica.com
SUMMARY:Trilha com o Mamães na Suiça
DESCRIPTION:Você e sua família estão convidados a passar um dia maravilhoso conosco\, caminhando e brincando! \nNo ano passado realizamos nossa primeira trilha em familia e este ano daremos continuidade e já agendamos a nossa segunda trilha\, que será em Elm um paraiso para crianças. Se você quiser saber mais sobre a trilha clique no link \nRiesenwald – A trilha da floresta gigante \n \nEm caso de tempo ruim\, a trilha será adiada
URL:https://www.mamaesnasuica.com/evento/trilha-com-o-mamaes-na-suica/
LOCATION:Elm\, Obmoos\, Elm\, Glarus\, 8767\, Switzerland
ATTACH;FMTTYPE=image/png:https://www.mamaesnasuica.com/wp-content/uploads/2018/04/trilha-2.001-e1526675339742.png
END:VEVENT
END:VCALENDAR