BEGIN:VCALENDAR
VERSION:2.0
PRODID:-//Mamães na Suíça - ECPv5.12.0//NONSGML v1.0//EN
CALSCALE:GREGORIAN
METHOD:PUBLISH
X-WR-CALNAME:Mamães na Suíça
X-ORIGINAL-URL:https://www.mamaesnasuica.com
X-WR-CALDESC:Eventos para Mamães na Suíça
BEGIN:VTIMEZONE
TZID:Europe/Zurich
BEGIN:DAYLIGHT
TZOFFSETFROM:+0100
TZOFFSETTO:+0200
TZNAME:CEST
DTSTART:20160327T010000
END:DAYLIGHT
BEGIN:STANDARD
TZOFFSETFROM:+0200
TZOFFSETTO:+0100
TZNAME:CET
DTSTART:20161030T010000
END:STANDARD
END:VTIMEZONE
BEGIN:VEVENT
DTSTART;TZID=Europe/Zurich:20161110T190000
DTEND;TZID=Europe/Zurich:20161110T200000
DTSTAMP:20260424T045338
CREATED:20161020T145834Z
LAST-MODIFIED:20161020T150138Z
UID:7100-1478804400-1478808000@www.mamaesnasuica.com
SUMMARY:Roda de Mulheres - Femmestische
DESCRIPTION:Venha participar de um bate-papo descontraído sobre como cuidar de nossa saúde mental e emocional
URL:https://www.mamaesnasuica.com/evento/roda-de-mulheres-femmestische/
LOCATION:CEBRAC\, Quellenstrasse 25\, Zurique\, 8005
CATEGORIES:Mamães na Suíça
ATTACH;FMTTYPE=image/png:https://www.mamaesnasuica.com/wp-content/uploads/2016/10/Convite-Roda-de-Mulheres-e1476975477930.png
END:VEVENT
END:VCALENDAR