BEGIN:VCALENDAR
VERSION:2.0
PRODID:-//Mamães na Suíça - ECPv5.12.0//NONSGML v1.0//EN
CALSCALE:GREGORIAN
METHOD:PUBLISH
X-WR-CALNAME:Mamães na Suíça
X-ORIGINAL-URL:https://www.mamaesnasuica.com
X-WR-CALDESC:Eventos para Mamães na Suíça
BEGIN:VTIMEZONE
TZID:Europe/Zurich
BEGIN:DAYLIGHT
TZOFFSETFROM:+0100
TZOFFSETTO:+0200
TZNAME:CEST
DTSTART:20180325T010000
END:DAYLIGHT
BEGIN:STANDARD
TZOFFSETFROM:+0200
TZOFFSETTO:+0100
TZNAME:CET
DTSTART:20181028T010000
END:STANDARD
END:VTIMEZONE
BEGIN:VEVENT
DTSTART;TZID=Europe/Zurich:20180706T190000
DTEND;TZID=Europe/Zurich:20180706T220000
DTSTAMP:20260424T112908
CREATED:20180404T072907Z
LAST-MODIFIED:20180613T072313Z
UID:9254-1530903600-1530914400@www.mamaesnasuica.com
SUMMARY:Piquenique de Mamães
DESCRIPTION:Venha participar conosco do nosso segundo piquenique só de mamães.
URL:https://www.mamaesnasuica.com/evento/piquenique-de-mamaes/
LOCATION:Chinagarten Zürich\, Bellerivestrasse 138\, zürich\, 8008\, Switzerland
CATEGORIES:Mamães na Suíça
ATTACH;FMTTYPE=image/jpeg:https://www.mamaesnasuica.com/wp-content/uploads/2018/04/mamaesnasuica-07..jpg
END:VEVENT
END:VCALENDAR