BEGIN:VCALENDAR
VERSION:2.0
PRODID:-//Mamães na Suíça - ECPv5.12.0//NONSGML v1.0//EN
CALSCALE:GREGORIAN
METHOD:PUBLISH
X-WR-CALNAME:Mamães na Suíça
X-ORIGINAL-URL:https://www.mamaesnasuica.com
X-WR-CALDESC:Eventos para Mamães na Suíça
BEGIN:VTIMEZONE
TZID:Europe/Zurich
BEGIN:DAYLIGHT
TZOFFSETFROM:+0100
TZOFFSETTO:+0200
TZNAME:CEST
DTSTART:20150329T010000
END:DAYLIGHT
BEGIN:STANDARD
TZOFFSETFROM:+0200
TZOFFSETTO:+0100
TZNAME:CET
DTSTART:20151025T010000
END:STANDARD
END:VTIMEZONE
BEGIN:VEVENT
DTSTART;TZID=Europe/Zurich:20151115T170000
DTEND;TZID=Europe/Zurich:20151115T180000
DTSTAMP:20260424T014903
CREATED:20151104T051544Z
LAST-MODIFIED:20151104T051733Z
UID:4182-1447606800-1447610400@www.mamaesnasuica.com
SUMMARY:Musical „Hänsel und Gretel" (João e Maria)
DESCRIPTION:Diversão garantida para toda a família (recomendado para crianças a partir de 6 anos)\, o Musical apresenta uma “Nova versão” do conto João e Maria. \nIngressos a partir de CHF 36.10\nwww.ticketcorner.ch
URL:https://www.mamaesnasuica.com/evento/musical-hansel-und-gretel-2015-11-16/
LOCATION:Stadt-Casino – Festsaal\, Steinenberg 14\, Basel\, 4051\, Switzerland
CATEGORIES:Indoor
ATTACH;FMTTYPE=image/jpeg:https://www.mamaesnasuica.com/wp-content/uploads/2015/11/haensel_gretel.jpg
END:VEVENT
END:VCALENDAR