BEGIN:VCALENDAR
VERSION:2.0
PRODID:-//Mamães na Suíça - ECPv5.12.0//NONSGML v1.0//EN
CALSCALE:GREGORIAN
METHOD:PUBLISH
X-WR-CALNAME:Mamães na Suíça
X-ORIGINAL-URL:https://www.mamaesnasuica.com
X-WR-CALDESC:Eventos para Mamães na Suíça
BEGIN:VTIMEZONE
TZID:Europe/Zurich
BEGIN:DAYLIGHT
TZOFFSETFROM:+0100
TZOFFSETTO:+0200
TZNAME:CEST
DTSTART:20140330T010000
END:DAYLIGHT
BEGIN:STANDARD
TZOFFSETFROM:+0200
TZOFFSETTO:+0100
TZNAME:CET
DTSTART:20141026T010000
END:STANDARD
END:VTIMEZONE
BEGIN:VEVENT
DTSTART;TZID=Europe/Zurich:20141115T140000
DTEND;TZID=Europe/Zurich:20141115T170000
DTSTAMP:20260424T075739
CREATED:20141105T082247Z
LAST-MODIFIED:20141105T085325Z
UID:1676-1416060000-1416070800@www.mamaesnasuica.com
SUMMARY:Lançamento dos Livros infantis
DESCRIPTION:O grupo Mamães na Suiça e o Cebrac com apoio do Consulado Brasileiro de Zurique e do blog Mamis Abroad\, organizou mais um evento para vocês. \nVenham participar do lançamento dos livros infantis: \nDie Seerose Alba e Kabiko \n  \n \n 
URL:https://www.mamaesnasuica.com/evento/lancamentolivrosinfantis/
LOCATION:Centro Brasil Cultural – CEBRAC\, Quellenstrasse 25\, Zürich\, 8005\, Switzerland
CATEGORIES:Indoor
ATTACH;FMTTYPE=image/jpeg:https://www.mamaesnasuica.com/wp-content/uploads/2014/11/Lancamento-Livros.jpg
END:VEVENT
END:VCALENDAR