BEGIN:VCALENDAR
VERSION:2.0
PRODID:-//Mamães na Suíça - ECPv5.12.0//NONSGML v1.0//EN
CALSCALE:GREGORIAN
METHOD:PUBLISH
X-WR-CALNAME:Mamães na Suíça
X-ORIGINAL-URL:https://www.mamaesnasuica.com
X-WR-CALDESC:Eventos para Mamães na Suíça
BEGIN:VTIMEZONE
TZID:Europe/Zurich
BEGIN:DAYLIGHT
TZOFFSETFROM:+0100
TZOFFSETTO:+0200
TZNAME:CEST
DTSTART:20160327T010000
END:DAYLIGHT
BEGIN:STANDARD
TZOFFSETFROM:+0200
TZOFFSETTO:+0100
TZNAME:CET
DTSTART:20161030T010000
END:STANDARD
END:VTIMEZONE
BEGIN:VEVENT
DTSTART;TZID=Europe/Zurich:20161102T150000
DTEND;TZID=Europe/Zurich:20161102T170000
DTSTAMP:20260424T014738
CREATED:20161002T183847Z
LAST-MODIFIED:20161017T141844Z
UID:6678-1478098800-1478106000@www.mamaesnasuica.com
SUMMARY:Encontro Musical do Livro Zoic - Zurique
DESCRIPTION:Estamos preparando uma surpresa para vocês!! \nVem aí um encontro musical interplanetário com os autores do livro infantil ZOIC e o destino do planeta: \n02.11.16 as 15h em Zurique – vagas esgotadas \n03.11.16 as 15h em Basel \n04.11.16 as 18h em Aarau \n  \n 
URL:https://www.mamaesnasuica.com/evento/encontromusical/
LOCATION:Biblioteca Pestalozzi Hardau\, Schulhaus Albisriederplatz - Norastrasse 20 \, Zürich\, Zürich\, 8004\, Switzerland
CATEGORIES:Indoor,Mamães na Suíça
END:VEVENT
END:VCALENDAR