BEGIN:VCALENDAR
VERSION:2.0
PRODID:-//Mamães na Suíça - ECPv5.12.0//NONSGML v1.0//EN
CALSCALE:GREGORIAN
METHOD:PUBLISH
X-WR-CALNAME:Mamães na Suíça
X-ORIGINAL-URL:https://www.mamaesnasuica.com
X-WR-CALDESC:Eventos para Mamães na Suíça
BEGIN:VTIMEZONE
TZID:Europe/Zurich
BEGIN:DAYLIGHT
TZOFFSETFROM:+0100
TZOFFSETTO:+0200
TZNAME:CEST
DTSTART:20160327T010000
END:DAYLIGHT
BEGIN:STANDARD
TZOFFSETFROM:+0200
TZOFFSETTO:+0100
TZNAME:CET
DTSTART:20161030T010000
END:STANDARD
END:VTIMEZONE
BEGIN:VEVENT
DTSTART;TZID=Europe/Zurich:20161103T150000
DTEND;TZID=Europe/Zurich:20161103T170000
DTSTAMP:20260424T032155
CREATED:20161017T141602Z
LAST-MODIFIED:20161017T141602Z
UID:6764-1478185200-1478192400@www.mamaesnasuica.com
SUMMARY:Encontro Musical do Livro Zoic - Basel
DESCRIPTION:Estamos preparando uma surpresa para vocês!! \nVem aí um encontro musical interplanetário com os autores do livro infantil ZOIC e o destino do planeta: \n02.11.16 as 15h em Zurique – vagas esgotadas \n03.11.16 as 15h em Basel \n04.11.16 as 18h em Aarau
URL:https://www.mamaesnasuica.com/evento/encontro-musical-do-livro-zoic-basel/
LOCATION:Bibliothek Bläsi\, Bläsiring 85\, Basel\, 4057\, Switzerland
CATEGORIES:Indoor,Mamães na Suíça
END:VEVENT
END:VCALENDAR