BEGIN:VCALENDAR
VERSION:2.0
PRODID:-//Mamães na Suíça - ECPv5.12.0//NONSGML v1.0//EN
CALSCALE:GREGORIAN
METHOD:PUBLISH
X-WR-CALNAME:Mamães na Suíça
X-ORIGINAL-URL:https://www.mamaesnasuica.com
X-WR-CALDESC:Eventos para Mamães na Suíça
BEGIN:VTIMEZONE
TZID:Europe/Zurich
BEGIN:DAYLIGHT
TZOFFSETFROM:+0100
TZOFFSETTO:+0200
TZNAME:CEST
DTSTART:20170326T010000
END:DAYLIGHT
BEGIN:STANDARD
TZOFFSETFROM:+0200
TZOFFSETTO:+0100
TZNAME:CET
DTSTART:20171029T010000
END:STANDARD
END:VTIMEZONE
BEGIN:VEVENT
DTSTART;TZID=Europe/Zurich:20170111T143000
DTEND;TZID=Europe/Zurich:20170111T170000
DTSTAMP:20260424T061449
CREATED:20170107T183139Z
LAST-MODIFIED:20170107T183139Z
UID:7464-1484145000-1484154000@www.mamaesnasuica.com
SUMMARY:Encontro Mamães na Suíça
DESCRIPTION:O nosso primeiro encontro do ano será dia 11 de janeiro. \nVenha participar conosco e passar uma tarde bem gostosa com a gente \nCom carinho \nElis\, Grazi e Rita
URL:https://www.mamaesnasuica.com/evento/encontro-mamaes-na-suica-4/
LOCATION:GZ Grünau\, Grünauring 18\, Zürich\, 8064\, Switzerland
CATEGORIES:Indoor,Mamães na Suíça
ATTACH;FMTTYPE=image/jpeg:https://www.mamaesnasuica.com/wp-content/uploads/2017/01/convite_Gruenau.jpg
END:VEVENT
END:VCALENDAR