BEGIN:VCALENDAR
VERSION:2.0
PRODID:-//Mamães na Suíça - ECPv5.12.0//NONSGML v1.0//EN
CALSCALE:GREGORIAN
METHOD:PUBLISH
X-WR-CALNAME:Mamães na Suíça
X-ORIGINAL-URL:https://www.mamaesnasuica.com
X-WR-CALDESC:Eventos para Mamães na Suíça
BEGIN:VTIMEZONE
TZID:Europe/Zurich
BEGIN:DAYLIGHT
TZOFFSETFROM:+0100
TZOFFSETTO:+0200
TZNAME:CEST
DTSTART:20160327T010000
END:DAYLIGHT
BEGIN:STANDARD
TZOFFSETFROM:+0200
TZOFFSETTO:+0100
TZNAME:CET
DTSTART:20161030T010000
END:STANDARD
END:VTIMEZONE
BEGIN:VEVENT
DTSTART;TZID=Europe/Zurich:20160228T110000
DTEND;TZID=Europe/Zurich:20160228T170000
DTSTAMP:20260423T205019
CREATED:20160216T092907Z
LAST-MODIFIED:20160216T092907Z
UID:4808-1456657200-1456678800@www.mamaesnasuica.com
SUMMARY:Encontro Mamães na Suíça 28.02
DESCRIPTION:Olá Mamães \nQue tal passar um domingo em família e divertir-se muito. Nosso próximo encontro será dia 28.02 a partir das 11h\, no formelfun \nVenha com a sua família \nMais informações no convite \nAbraços \n  \n 
URL:https://www.mamaesnasuica.com/evento/encontro-mamaes-na-suica-28-02/
LOCATION:Formel Fun\, Schützenmattstrasse 30\, Zurique\, Zurique\, 8180\, Switzerland
CATEGORIES:Indoor,Mamães na Suíça
ATTACH;FMTTYPE=image/png:https://www.mamaesnasuica.com/wp-content/uploads/2016/02/ConviteFormelFunFev16.png
END:VEVENT
END:VCALENDAR