BEGIN:VCALENDAR
VERSION:2.0
PRODID:-//Mamães na Suíça - ECPv5.12.0//NONSGML v1.0//EN
CALSCALE:GREGORIAN
METHOD:PUBLISH
X-WR-CALNAME:Mamães na Suíça
X-ORIGINAL-URL:https://www.mamaesnasuica.com
X-WR-CALDESC:Eventos para Mamães na Suíça
BEGIN:VTIMEZONE
TZID:Europe/Zurich
BEGIN:DAYLIGHT
TZOFFSETFROM:+0100
TZOFFSETTO:+0200
TZNAME:CEST
DTSTART:20160327T010000
END:DAYLIGHT
BEGIN:STANDARD
TZOFFSETFROM:+0200
TZOFFSETTO:+0100
TZNAME:CET
DTSTART:20161030T010000
END:STANDARD
END:VTIMEZONE
BEGIN:VEVENT
DTSTART;TZID=Europe/Zurich:20160120T140000
DTEND;TZID=Europe/Zurich:20160120T170000
DTSTAMP:20260423T222537
CREATED:20160119T134748Z
LAST-MODIFIED:20160119T134748Z
UID:4700-1453298400-1453309200@www.mamaesnasuica.com
SUMMARY:Encontro Mamães na Suíça
DESCRIPTION:Queridas Mamães\,\nEsperamos que vocês e suas famílias tenham tido um lindo Natal e uma ótima virada de ano.\nNosso primeiro encontro de 2016 será na próxima quarta-feira\, dia 20\, no Zentrum Krokodil. Detalhes no convite anexo.\nAbraços e até quarta!
URL:https://www.mamaesnasuica.com/evento/encontro-mamaes-na-suica-2/
LOCATION:Zentrum Krokodil für Eltern und Kinder\, Friedrichstrasse 9\, Zürich\, 8051\, Switzerland
CATEGORIES:Indoor
ATTACH;FMTTYPE=image/png:https://www.mamaesnasuica.com/wp-content/uploads/2016/01/12417662_1697694740447569_5738703997146408137_n-1-e1453211180682.png
END:VEVENT
END:VCALENDAR