BEGIN:VCALENDAR
VERSION:2.0
PRODID:-//Mamães na Suíça - ECPv5.12.0//NONSGML v1.0//EN
CALSCALE:GREGORIAN
METHOD:PUBLISH
X-WR-CALNAME:Mamães na Suíça
X-ORIGINAL-URL:https://www.mamaesnasuica.com
X-WR-CALDESC:Eventos para Mamães na Suíça
BEGIN:VTIMEZONE
TZID:Europe/Zurich
BEGIN:DAYLIGHT
TZOFFSETFROM:+0100
TZOFFSETTO:+0200
TZNAME:CEST
DTSTART:20140330T010000
END:DAYLIGHT
BEGIN:STANDARD
TZOFFSETFROM:+0200
TZOFFSETTO:+0100
TZNAME:CET
DTSTART:20141026T010000
END:STANDARD
END:VTIMEZONE
BEGIN:VEVENT
DTSTART;TZID=Europe/Zurich:20140820T100000
DTEND;TZID=Europe/Zurich:20140820T120000
DTSTAMP:20260424T095925
CREATED:20140819T102028Z
LAST-MODIFIED:20140819T102028Z
UID:798-1408528800-1408536000@www.mamaesnasuica.com
SUMMARY:Encontro grupo mamães na Suiça
DESCRIPTION:Bate papo descontraído\, troca de experiências\, cantigas\, brincadeiras da nossa infância e momentos de recreação em língua portuguesa Participe do nosso próximo encontro!!!
URL:https://www.mamaesnasuica.com/evento/encontro-grupo-mamaes-na-suica/
LOCATION:Bogen 16 im Viadukt\, Viaduktstrasse 55\, Zürich\, 8005\, Switzerland
CATEGORIES:Indoor
ATTACH;FMTTYPE=image/jpeg:https://www.mamaesnasuica.com/wp-content/uploads/2014/08/20140820_ConviteMamaesNaSuiça-e1408443511699.jpg
END:VEVENT
END:VCALENDAR