BEGIN:VCALENDAR
VERSION:2.0
PRODID:-//Mamães na Suíça - ECPv5.12.0//NONSGML v1.0//EN
CALSCALE:GREGORIAN
METHOD:PUBLISH
X-WR-CALNAME:Mamães na Suíça
X-ORIGINAL-URL:https://www.mamaesnasuica.com
X-WR-CALDESC:Eventos para Mamães na Suíça
BEGIN:VTIMEZONE
TZID:Europe/Zurich
BEGIN:DAYLIGHT
TZOFFSETFROM:+0100
TZOFFSETTO:+0200
TZNAME:CEST
DTSTART:20140330T010000
END:DAYLIGHT
BEGIN:STANDARD
TZOFFSETFROM:+0200
TZOFFSETTO:+0100
TZNAME:CET
DTSTART:20141026T010000
END:STANDARD
END:VTIMEZONE
BEGIN:VEVENT
DTSTART;TZID=Europe/Zurich:20141126T100000
DTEND;TZID=Europe/Zurich:20141126T120000
DTSTAMP:20260424T075430
CREATED:20140921T164148Z
LAST-MODIFIED:20141119T090436Z
UID:1119-1416996000-1417003200@www.mamaesnasuica.com
SUMMARY:Encontro do Grupo Mamães na Suíça - com contação de história
DESCRIPTION:O Grupo Mamãe na Suíça é um grupo de encontro para mamães com bebês e filhos pequenos\, com o objetivo de trocar experiências e estimular as crianças a falarem nosso idioma e terem contato com nossa cultura. \nParticipe do nosso último encontro deste ano\, com contação de história para as crianças! \n 
URL:https://www.mamaesnasuica.com/evento/encontro-grupo-mamaes-na-suica-5/
LOCATION:Bogen 16 im Viadukt\, Viaduktstrasse 55\, Zürich\, 8005\, Switzerland
CATEGORIES:Indoor
ATTACH;FMTTYPE=image/jpeg:https://www.mamaesnasuica.com/wp-content/uploads/2014/09/convite.jpg
END:VEVENT
END:VCALENDAR