BEGIN:VCALENDAR
VERSION:2.0
PRODID:-//Mamães na Suíça - ECPv5.12.0//NONSGML v1.0//EN
CALSCALE:GREGORIAN
METHOD:PUBLISH
X-WR-CALNAME:Mamães na Suíça
X-ORIGINAL-URL:https://www.mamaesnasuica.com
X-WR-CALDESC:Eventos para Mamães na Suíça
BEGIN:VTIMEZONE
TZID:Europe/Zurich
BEGIN:DAYLIGHT
TZOFFSETFROM:+0100
TZOFFSETTO:+0200
TZNAME:CEST
DTSTART:20160327T010000
END:DAYLIGHT
BEGIN:STANDARD
TZOFFSETFROM:+0200
TZOFFSETTO:+0100
TZNAME:CET
DTSTART:20161030T010000
END:STANDARD
END:VTIMEZONE
BEGIN:VEVENT
DTSTART;TZID=Europe/Zurich:20160622T140000
DTEND;TZID=Europe/Zurich:20160625T170000
DTSTAMP:20260424T050631
CREATED:20160303T203218Z
LAST-MODIFIED:20160303T203218Z
UID:4932-1466604000-1466874000@www.mamaesnasuica.com
SUMMARY:Encontro do Grupo Mamãs na Suíça
DESCRIPTION:Local do encontro e detalhes serão definidos e divulgados em breve\, mas anote a data na sua agenda!! 🙂
URL:https://www.mamaesnasuica.com/evento/encontro-do-grupo-mamas-na-suica/
CATEGORIES:Mamães na Suíça
END:VEVENT
END:VCALENDAR