BEGIN:VCALENDAR
VERSION:2.0
PRODID:-//Mamães na Suíça - ECPv5.12.0//NONSGML v1.0//EN
CALSCALE:GREGORIAN
METHOD:PUBLISH
X-WR-CALNAME:Mamães na Suíça
X-ORIGINAL-URL:https://www.mamaesnasuica.com
X-WR-CALDESC:Eventos para Mamães na Suíça
BEGIN:VTIMEZONE
TZID:Europe/Zurich
BEGIN:DAYLIGHT
TZOFFSETFROM:+0100
TZOFFSETTO:+0200
TZNAME:CEST
DTSTART:20150329T010000
END:DAYLIGHT
BEGIN:STANDARD
TZOFFSETFROM:+0200
TZOFFSETTO:+0100
TZNAME:CET
DTSTART:20151025T010000
END:STANDARD
END:VTIMEZONE
BEGIN:VEVENT
DTSTART;TZID=Europe/Zurich:20151128T143000
DTEND;TZID=Europe/Zurich:20151128T163000
DTSTAMP:20260424T000536
CREATED:20151120T084806Z
LAST-MODIFIED:20151120T153251Z
UID:4520-1448721000-1448728200@www.mamaesnasuica.com
SUMMARY:Encontro do grupo Mamães na Suíça dia 28.11.2015
DESCRIPTION:Queridas Mamães \nO final do ano está chegando e com ele o Natal e o Ano Novo\, por isso para celebrar mais um ano de encontros \, organizamos para o nosso ultimo do ano dia 28.11\, uma programação especial com contação de história: Como se celebra o Natal adaptada do livro infantil ” Wie weihnachtelt man?” \, oficina criativa e um lanchinho para toda a família. Será um prazer contar com a presença de você e sua família \nPara a Oficina cada criança deverá trazer par de meia branca e um par de meia colorida que não usem mais (de bebê ou criança) o restante do material será fornecido no local. \nO nosso grupo nasceu do desejo de nossos filhos poderem falar e vivenciar a língua portuguesa\, é um trabalho totalmente voluntário e por isso nós agradeceriamos uma pequena contribuição financeira pela participação de cada criança para o financiamento do material  e do lanchinho. \nOs papais também são bem-vindos ao nosso encontro e não se esqueçam de se inscreverem para o evento no nosso email: mamaesnasuica@gmail.com até 25.11\, pois as vagas são limitadas \nMais informações no convite em anexo \n  \n 
URL:https://www.mamaesnasuica.com/evento/encontro-do-grupo-mamaes-na-suica-dia-28-11-2015/
LOCATION:Biblioteca Pestalozzi Hardau\, Schulhaus Albisriederplatz - Norastrasse 20 \, Zürich\, Zürich\, 8004\, Switzerland
CATEGORIES:Mamães na Suíça
ATTACH;FMTTYPE=image/png:https://www.mamaesnasuica.com/wp-content/uploads/2014/06/ConviteContacaoNatal.1.png
END:VEVENT
END:VCALENDAR