BEGIN:VCALENDAR
VERSION:2.0
PRODID:-//Mamães na Suíça - ECPv5.12.0//NONSGML v1.0//EN
CALSCALE:GREGORIAN
METHOD:PUBLISH
X-WR-CALNAME:Mamães na Suíça
X-ORIGINAL-URL:https://www.mamaesnasuica.com
X-WR-CALDESC:Eventos para Mamães na Suíça
BEGIN:VTIMEZONE
TZID:Europe/Zurich
BEGIN:DAYLIGHT
TZOFFSETFROM:+0100
TZOFFSETTO:+0200
TZNAME:CEST
DTSTART:20160327T010000
END:DAYLIGHT
BEGIN:STANDARD
TZOFFSETFROM:+0200
TZOFFSETTO:+0100
TZNAME:CET
DTSTART:20161030T010000
END:STANDARD
END:VTIMEZONE
BEGIN:VEVENT
DTSTART;TZID=Europe/Zurich:20160511T140000
DTEND;TZID=Europe/Zurich:20160511T170000
DTSTAMP:20260423T222622
CREATED:20160303T202612Z
LAST-MODIFIED:20160509T084042Z
UID:4929-1462975200-1462986000@www.mamaesnasuica.com
SUMMARY:Encontro do Grupo Mamães na Suíça
DESCRIPTION:Venha passar a tarde com a gente no GZ Buchegg\, em Zurique!
URL:https://www.mamaesnasuica.com/evento/encontro-do-grupo-mamaes-na-suica-7/
LOCATION:GZ Buchegg\, Bucheggstrasse 93\, Zürich\, Switzerland
CATEGORIES:Mamães na Suíça
ATTACH;FMTTYPE=image/png:https://www.mamaesnasuica.com/wp-content/uploads/2016/03/Buchegg11maio16.png
END:VEVENT
END:VCALENDAR