BEGIN:VCALENDAR
VERSION:2.0
PRODID:-//Mamães na Suíça - ECPv5.12.0//NONSGML v1.0//EN
CALSCALE:GREGORIAN
METHOD:PUBLISH
X-WR-CALNAME:Mamães na Suíça
X-ORIGINAL-URL:https://www.mamaesnasuica.com
X-WR-CALDESC:Eventos para Mamães na Suíça
BEGIN:VTIMEZONE
TZID:Europe/Zurich
BEGIN:DAYLIGHT
TZOFFSETFROM:+0100
TZOFFSETTO:+0200
TZNAME:CEST
DTSTART:20170326T010000
END:DAYLIGHT
BEGIN:STANDARD
TZOFFSETFROM:+0200
TZOFFSETTO:+0100
TZNAME:CET
DTSTART:20171029T010000
END:STANDARD
END:VTIMEZONE
BEGIN:VEVENT
DTSTART;TZID=Europe/Zurich:20170322T140000
DTEND;TZID=Europe/Zurich:20170322T170000
DTSTAMP:20260424T015123
CREATED:20170315T102115Z
LAST-MODIFIED:20170315T102145Z
UID:7540-1490191200-1490202000@www.mamaesnasuica.com
SUMMARY:Encontro do grupo Mamães na Suíça 22.03.17
DESCRIPTION:Ola Mamães !! \nNosso próximo encontro será no dia 22.03.17 das 14h as 17h\, no GZ Seebach. \nMais informações no convite em anexo. \nAbraços \nRita\, Elis e Grazi
URL:https://www.mamaesnasuica.com/evento/encontro-do-grupo-mamaes-na-suica-22-03-17/
LOCATION:GZ Seebach\, Hertensteinstrasse 20\, Zurich\, 8052\, Switzerland
CATEGORIES:Mamães na Suíça
ATTACH;FMTTYPE=image/jpeg:https://www.mamaesnasuica.com/wp-content/uploads/2017/03/c0372ad5-bee5-4728-87e5-ff202a828c1c.jpeg
END:VEVENT
END:VCALENDAR