BEGIN:VCALENDAR
VERSION:2.0
PRODID:-//Mamães na Suíça - ECPv5.12.0//NONSGML v1.0//EN
CALSCALE:GREGORIAN
METHOD:PUBLISH
X-WR-CALNAME:Mamães na Suíça
X-ORIGINAL-URL:https://www.mamaesnasuica.com
X-WR-CALDESC:Eventos para Mamães na Suíça
BEGIN:VTIMEZONE
TZID:Europe/Zurich
BEGIN:DAYLIGHT
TZOFFSETFROM:+0100
TZOFFSETTO:+0200
TZNAME:CEST
DTSTART:20180325T010000
END:DAYLIGHT
BEGIN:STANDARD
TZOFFSETFROM:+0200
TZOFFSETTO:+0100
TZNAME:CET
DTSTART:20181028T010000
END:STANDARD
END:VTIMEZONE
BEGIN:VEVENT
DTSTART;TZID=Europe/Zurich:20180516T143000
DTEND;TZID=Europe/Zurich:20180516T170000
DTSTAMP:20260424T032059
CREATED:20180404T072332Z
LAST-MODIFIED:20180404T080343Z
UID:9249-1526481000-1526490000@www.mamaesnasuica.com
SUMMARY:Encontro de primavera com contação de história
DESCRIPTION:O Mamães na Suiça convida para mais um encontro supre gostoso com contação de historiam feita por Ana Amélia Coelho. Traga seu lanchinho e Kit de piquenique e venha passar uma tarde agradável com a gente brincando e falando português. Se o tempo estiver bom faremos o lanchinho no Josefwiese após a contação. \n  \nCHF 5 para sócios do CEBRAC e CHF 10 não sócios. \nVagas limitadas: Confirme presença até dia 13.05 pelo email: mamaesnasuica@gmail.com
URL:https://www.mamaesnasuica.com/evento/encontro-de-primavera-com-contacao-de-historia/
LOCATION:Centro Brasil Cultural – CEBRAC\, Quellenstrasse 25\, Zürich\, 8005\, Switzerland
CATEGORIES:Mamães na Suíça
ATTACH;FMTTYPE=image/jpeg:https://www.mamaesnasuica.com/wp-content/uploads/2018/04/ea393255-632d-4cd8-a153-40164dc2121e.jpg
END:VEVENT
END:VCALENDAR