BEGIN:VCALENDAR
VERSION:2.0
PRODID:-//Mamães na Suíça - ECPv5.12.0//NONSGML v1.0//EN
CALSCALE:GREGORIAN
METHOD:PUBLISH
X-WR-CALNAME:Mamães na Suíça
X-ORIGINAL-URL:https://www.mamaesnasuica.com
X-WR-CALDESC:Eventos para Mamães na Suíça
BEGIN:VTIMEZONE
TZID:Europe/Zurich
BEGIN:DAYLIGHT
TZOFFSETFROM:+0100
TZOFFSETTO:+0200
TZNAME:CEST
DTSTART:20180325T010000
END:DAYLIGHT
BEGIN:STANDARD
TZOFFSETFROM:+0200
TZOFFSETTO:+0100
TZNAME:CET
DTSTART:20181028T010000
END:STANDARD
END:VTIMEZONE
BEGIN:VEVENT
DTSTART;TZID=Europe/Zurich:20180504T143000
DTEND;TZID=Europe/Zurich:20180504T170000
DTSTAMP:20260424T014919
CREATED:20180404T071739Z
LAST-MODIFIED:20180404T080414Z
UID:9247-1525444200-1525453200@www.mamaesnasuica.com
SUMMARY:Encontro de Crochê com Ana Amélia Coelho
DESCRIPTION:Venha curtir conosco uma gostosa tarde de 6 feira\, batendo papo e crochetando lindas peças de primavera! \n25chf sócio do CEBRAC \n30chf não sócio \n(Material não incluso) \ninscrição: mamaesnasuica@gmail.com
URL:https://www.mamaesnasuica.com/evento/encontro-de-croche-com-ana-amelia-coelho/
LOCATION:Centro Brasil Cultural – CEBRAC\, Quellenstrasse 25\, Zürich\, 8005\, Switzerland
CATEGORIES:Mamães na Suíça
ATTACH;FMTTYPE=image/jpeg:https://www.mamaesnasuica.com/wp-content/uploads/2018/04/8c7c0d60-9f33-43e3-be70-938085fef279.jpg
END:VEVENT
END:VCALENDAR