BEGIN:VCALENDAR
VERSION:2.0
PRODID:-//Mamães na Suíça - ECPv5.12.0//NONSGML v1.0//EN
CALSCALE:GREGORIAN
METHOD:PUBLISH
X-WR-CALNAME:Mamães na Suíça
X-ORIGINAL-URL:https://www.mamaesnasuica.com
X-WR-CALDESC:Eventos para Mamães na Suíça
BEGIN:VTIMEZONE
TZID:Europe/Zurich
BEGIN:DAYLIGHT
TZOFFSETFROM:+0100
TZOFFSETTO:+0200
TZNAME:CEST
DTSTART:20140330T010000
END:DAYLIGHT
BEGIN:STANDARD
TZOFFSETFROM:+0200
TZOFFSETTO:+0100
TZNAME:CET
DTSTART:20141026T010000
END:STANDARD
END:VTIMEZONE
BEGIN:VEVENT
DTSTART;TZID=Europe/Zurich:20140919T190000
DTEND;TZID=Europe/Zurich:20140919T210000
DTSTAMP:20260424T081159
CREATED:20140917T123548Z
LAST-MODIFIED:20140917T195333Z
UID:1105-1411153200-1411160400@www.mamaesnasuica.com
SUMMARY:Crescer em Zurique: dar aos seus filhos as mesmas oportunidades escolares que os outros alunos têm!
DESCRIPTION:Palestra organizada pelo Departamento de Promoção à Integração da Cidade de Zurique \nUma das grandes preocupações dos imigrantes é sem dúvida os seus filhos. Tanto a igualdade de oportunidades na escola como a promoção da prática regular de atividades desportivas\, culturais e recreativas são tópicos de grande importância\, e por isso abordados nesta sessão. \nComo funciona o sistema de ensino na Suíça? Como podem os pais ajudar os seus filhos a ter um bom desempenho escolar? Como podem os pais ter um envolvimento positivo na escola e quais são os benefícios para os filhos? Deverão os seus filhos seguir um curso profissional ou universitário? Que atividades podem ser praticadas e permitem melhorar o convívio social? As respostas a estas e a mais perguntas serão dadas no dia da sessão! \nConvidado especial: Markus Busin\, professor de instrução primária \nAlternativas utilizando os transportes públicos: Autocarro 31 ou o elétrico 8 até à paragem Güterbahnhof \nPara mais informações:\nDepartamento de Promoção à Integração da Cidade de Zurique\nE-mail: integrationsfoerderung@zuerich.ch\nTel.: 044 412 37 37\nPode encontrar informações sobre os vários serviços do Departamento de Promoção à Integração da Cidade de Zurique em 15 idiomas no Website: www.stadt-zuerich.ch/integration
URL:https://www.mamaesnasuica.com/evento/crescer-em-zurique-dar-aos-seus-filhos-mesmas-oportunidades-escolares-que-os-outros-alunos-tem/
LOCATION:Haus der Kulturen\, Erismannstrasse 6\, \, Zürich\, 8004\, Switzerland
CATEGORIES:Indoor
ATTACH;FMTTYPE=image/jpeg:https://www.mamaesnasuica.com/wp-content/uploads/2014/09/Schule.jpg
END:VEVENT
END:VCALENDAR