BEGIN:VCALENDAR
VERSION:2.0
PRODID:-//Mamães na Suíça - ECPv5.12.0//NONSGML v1.0//EN
CALSCALE:GREGORIAN
METHOD:PUBLISH
X-WR-CALNAME:Mamães na Suíça
X-ORIGINAL-URL:https://www.mamaesnasuica.com
X-WR-CALDESC:Eventos para Mamães na Suíça
BEGIN:VTIMEZONE
TZID:Europe/Zurich
BEGIN:DAYLIGHT
TZOFFSETFROM:+0100
TZOFFSETTO:+0200
TZNAME:CEST
DTSTART:20160327T010000
END:DAYLIGHT
BEGIN:STANDARD
TZOFFSETFROM:+0200
TZOFFSETTO:+0100
TZNAME:CET
DTSTART:20161030T010000
END:STANDARD
END:VTIMEZONE
BEGIN:VEVENT
DTSTART;TZID=Europe/Zurich:20160530T193000
DTEND;TZID=Europe/Zurich:20160530T210000
DTSTAMP:20260424T015058
CREATED:20160514T070010Z
LAST-MODIFIED:20160514T070100Z
UID:5367-1464636600-1464642000@www.mamaesnasuica.com
SUMMARY:Bate-papo com fonoaudióloga sobre bilinguismo
DESCRIPTION:O tema “família bilíngues” está sempre em alta no blog Mamães na Suíça e é discutido com freqüência nos encontros do Grupo. Já realizamos duas palestras com uma psicóloga sobre o assunto e publicamos posts no nosso blog: \nO que aprendemos com a palestra sobre famílias bilingues \nSon las personas bilingües más inteligentes que los monolingües? \nAgora que nossas crianças estão tagarelando sem parar resolvemos abordar esse mesmo assunto sob uma outra perspectiva\, e convidamos uma fonoaudióloga para dar uma palestra e esclarecer nossas dúvidas de como podemos ajudar as crianças no desenvolvimento e aprendizado da fala\, quando elas falam mais de um idioma. \nParticipe dessa palestra e venha esclarecer suas dúvidas também!! \nConfirme sua presença por e-mail: mamaesnasuica@gmail.com
URL:https://www.mamaesnasuica.com/evento/bate-papo-com-fonoaudiologa-sobre-bilinguismo/
LOCATION:CEBRAC\, Quellenstrasse 25\, Zurique\, 8005
CATEGORIES:Indoor,Mamães na Suíça
ATTACH;FMTTYPE=image/png:https://www.mamaesnasuica.com/wp-content/uploads/2016/05/Convite_PalestraFono_30.05.16.png
ORGANIZER;CN="Mam%C3%A3es%20na%20Su%C3%AD%C3%A7a":MAILTO:mamaesnasuica@gmail.com
END:VEVENT
END:VCALENDAR